BEGIN:VCALENDAR
VERSION:2.0
PRODID:-//Niagara Board of Trade and Commerce - ECPv6.15.20//NONSGML v1.0//EN
CALSCALE:GREGORIAN
METHOD:PUBLISH
X-ORIGINAL-URL:https://nbotac.com
X-WR-CALDESC:Events for Niagara Board of Trade and Commerce
REFRESH-INTERVAL;VALUE=DURATION:PT1H
X-Robots-Tag:noindex
X-PUBLISHED-TTL:PT1H
BEGIN:VTIMEZONE
TZID:America/Toronto
BEGIN:DAYLIGHT
TZOFFSETFROM:-0500
TZOFFSETTO:-0400
TZNAME:EDT
DTSTART:20240310T070000
END:DAYLIGHT
BEGIN:STANDARD
TZOFFSETFROM:-0400
TZOFFSETTO:-0500
TZNAME:EST
DTSTART:20241103T060000
END:STANDARD
BEGIN:DAYLIGHT
TZOFFSETFROM:-0500
TZOFFSETTO:-0400
TZNAME:EDT
DTSTART:20250309T070000
END:DAYLIGHT
BEGIN:STANDARD
TZOFFSETFROM:-0400
TZOFFSETTO:-0500
TZNAME:EST
DTSTART:20251102T060000
END:STANDARD
BEGIN:DAYLIGHT
TZOFFSETFROM:-0500
TZOFFSETTO:-0400
TZNAME:EDT
DTSTART:20260308T070000
END:DAYLIGHT
BEGIN:STANDARD
TZOFFSETFROM:-0400
TZOFFSETTO:-0500
TZNAME:EST
DTSTART:20261101T060000
END:STANDARD
END:VTIMEZONE
BEGIN:VEVENT
DTSTART;TZID=America/Toronto:20251112T120000
DTEND;TZID=America/Toronto:20251112T130000
DTSTAMP:20260421T163639
CREATED:20251015T165432Z
LAST-MODIFIED:20251024T175925Z
UID:10000425-1762948800-1762952400@nbotac.com
SUMMARY:November Lunch\, Learn & Networking
DESCRIPTION:NBOTAC Members – Join Us for Our November Lunch\, Learn & Networking! \nConnect\, learn\, and grow at our next Lunch\, Learn & Networking event hosted by YMCA Employment & Newcomer Services. Gain valuable insights into the Employment Ontario Program\, including placement funding\, apprenticeship opportunities\, and training supports\, while networking with fellow members and local professionals. \n📅 Date: Wednesday\, November 12th\n🕛 Time: 12:00 PM\n📍 Location: Thorold Community Activities Group-131 Richmond St. Thorold \nDon’t miss this great opportunity to learn and connect—reserve your spot today!\n\n\n\n\n\n\n\n\n\n\n\n\n\n\nRSVP Member \n\n\n\n\n\n\n\n\n\n\n\n\n\n\n\n\n\n\nRSVP Non Member
URL:https://nbotac.com/event/november-lunch-learn-networking/
LOCATION:Thorold Community Activities Group\, 131 Richmond St.\, Thorold\, Ontario\, L2V 3H3\, Canada
CATEGORIES:Lunch and Learn
END:VEVENT
END:VCALENDAR