BEGIN:VCALENDAR
VERSION:2.0
PRODID:-//Niagara Board of Trade and Commerce - ECPv6.15.20//NONSGML v1.0//EN
CALSCALE:GREGORIAN
METHOD:PUBLISH
X-ORIGINAL-URL:https://nbotac.com
X-WR-CALDESC:Events for Niagara Board of Trade and Commerce
REFRESH-INTERVAL;VALUE=DURATION:PT1H
X-Robots-Tag:noindex
X-PUBLISHED-TTL:PT1H
BEGIN:VTIMEZONE
TZID:America/Toronto
BEGIN:DAYLIGHT
TZOFFSETFROM:-0500
TZOFFSETTO:-0400
TZNAME:EDT
DTSTART:20230312T070000
END:DAYLIGHT
BEGIN:STANDARD
TZOFFSETFROM:-0400
TZOFFSETTO:-0500
TZNAME:EST
DTSTART:20231105T060000
END:STANDARD
BEGIN:DAYLIGHT
TZOFFSETFROM:-0500
TZOFFSETTO:-0400
TZNAME:EDT
DTSTART:20240310T070000
END:DAYLIGHT
BEGIN:STANDARD
TZOFFSETFROM:-0400
TZOFFSETTO:-0500
TZNAME:EST
DTSTART:20241103T060000
END:STANDARD
BEGIN:DAYLIGHT
TZOFFSETFROM:-0500
TZOFFSETTO:-0400
TZNAME:EDT
DTSTART:20250309T070000
END:DAYLIGHT
BEGIN:STANDARD
TZOFFSETFROM:-0400
TZOFFSETTO:-0500
TZNAME:EST
DTSTART:20251102T060000
END:STANDARD
END:VTIMEZONE
BEGIN:VEVENT
DTSTART;TZID=America/Toronto:20240131T170000
DTEND;TZID=America/Toronto:20240131T170000
DTSTAMP:20260425T215015
CREATED:20240117T183842Z
LAST-MODIFIED:20240117T183842Z
UID:10000384-1706720400-1706720400@nbotac.com
SUMMARY:January Business After Five hosted by Bowes IT!
DESCRIPTION:Join us for our January Business After Five hosted by Bowes IT Solutions. \nPlease RSVP to info@nbotac.com
URL:https://nbotac.com/event/january-business-after-five-hosted-by-bowes-it/
LOCATION:411 East Main St\, Welland\, ON  L3B 3X3
CATEGORIES:Business After 5
END:VEVENT
END:VCALENDAR