BEGIN:VCALENDAR
VERSION:2.0
PRODID:-//Niagara Board of Trade and Commerce - ECPv6.15.20//NONSGML v1.0//EN
CALSCALE:GREGORIAN
METHOD:PUBLISH
X-ORIGINAL-URL:https://nbotac.com
X-WR-CALDESC:Events for Niagara Board of Trade and Commerce
REFRESH-INTERVAL;VALUE=DURATION:PT1H
X-Robots-Tag:noindex
X-PUBLISHED-TTL:PT1H
BEGIN:VTIMEZONE
TZID:America/Toronto
BEGIN:DAYLIGHT
TZOFFSETFROM:-0500
TZOFFSETTO:-0400
TZNAME:EDT
DTSTART:20240310T070000
END:DAYLIGHT
BEGIN:STANDARD
TZOFFSETFROM:-0400
TZOFFSETTO:-0500
TZNAME:EST
DTSTART:20241103T060000
END:STANDARD
BEGIN:DAYLIGHT
TZOFFSETFROM:-0500
TZOFFSETTO:-0400
TZNAME:EDT
DTSTART:20250309T070000
END:DAYLIGHT
BEGIN:STANDARD
TZOFFSETFROM:-0400
TZOFFSETTO:-0500
TZNAME:EST
DTSTART:20251102T060000
END:STANDARD
BEGIN:DAYLIGHT
TZOFFSETFROM:-0500
TZOFFSETTO:-0400
TZNAME:EDT
DTSTART:20260308T070000
END:DAYLIGHT
BEGIN:STANDARD
TZOFFSETFROM:-0400
TZOFFSETTO:-0500
TZNAME:EST
DTSTART:20261101T060000
END:STANDARD
BEGIN:DAYLIGHT
TZOFFSETFROM:-0500
TZOFFSETTO:-0400
TZNAME:EDT
DTSTART:20270314T070000
END:DAYLIGHT
BEGIN:STANDARD
TZOFFSETFROM:-0400
TZOFFSETTO:-0500
TZNAME:EST
DTSTART:20271107T060000
END:STANDARD
END:VTIMEZONE
BEGIN:VEVENT
DTSTART;TZID=America/Toronto:20250430T140000
DTEND;TZID=America/Toronto:20250430T190000
DTSTAMP:20260421T221121
CREATED:20250226T201020Z
LAST-MODIFIED:20250310T202718Z
UID:10000415-1746021600-1746039600@nbotac.com
SUMMARY:Health & Wellness Expo
DESCRIPTION:Join us for our 2025 Health & Wellness Expo!\n \nMember Registration  \nNon- Member Registration
URL:https://nbotac.com/event/health-wellness-expo-2/
LOCATION:Thorold Seniors Center\, 8 Carleton St. South\, Thorold\, Ontario\, L2V 5C2\, Canada
CATEGORIES:Community Event
END:VEVENT
BEGIN:VEVENT
DTSTART;TZID=America/Toronto:20260205T150000
DTEND;TZID=America/Toronto:20260205T180000
DTSTAMP:20260421T221121
CREATED:20260121T115133Z
LAST-MODIFIED:20260121T115133Z
UID:10000431-1770303600-1770314400@nbotac.com
SUMMARY:Blood Donor Day – Give Blood. Give Back.
DESCRIPTION:🩸 Blood Donor Day – Give Blood. Give Back. \nThursday\, February 5 | 3:00 – 6:00 PM📍 Canadian Blood Services420 Vansickle Rd.\, St. Catharines \nThe Niagara Board of Trade & Commerce is proud to be a Blood Donor Partner for Life and we’re inviting our members\, colleagues\, and community to roll up their sleeves for a cause that truly matters. \nWhether you’re a regular donor or it’s your first time\, your donation helps save lives right here in our region. \nPartner for Life Code\nWhen you donate blood or plasma\, please use our Partner for Life code:#NIAG0092260 \nWinter Donor Incentive ✈️\nBook and attend a blood or plasma donation appointment — or join the Canadian Blood Services’ Stem Cell Registry — between January 1 and March 31\, 2026\, and you’ll be entered for a chance to win round-trip tickets for two\, courtesy of the Air Canada Foundation\, to any Air Canada scheduled destination.* \nIt’s a simple way to feel lighter\, brighter\, and better this winter — while making a real difference. \n🔎 Full details available at blood.ca \n👉  REGISTER HERE\nGive an hour. Save a life. Support Niagara.
URL:https://nbotac.com/event/blood-donor-day/
LOCATION:Canadian Blood Services\, 420 Vansickle Rd.\,\, St. Catharines\, ON
CATEGORIES:Community Event
ATTACH;FMTTYPE=image/jpeg:https://nbotac.com/wp-content/uploads/2026/01/FEBRUARY-blood-donor-scaled.jpg
END:VEVENT
END:VCALENDAR