BEGIN:VCALENDAR
VERSION:2.0
PRODID:-//Niagara Board of Trade and Commerce - ECPv6.15.20//NONSGML v1.0//EN
CALSCALE:GREGORIAN
METHOD:PUBLISH
X-WR-CALNAME:Niagara Board of Trade and Commerce
X-ORIGINAL-URL:https://nbotac.com
X-WR-CALDESC:Events for Niagara Board of Trade and Commerce
REFRESH-INTERVAL;VALUE=DURATION:PT1H
X-Robots-Tag:noindex
X-PUBLISHED-TTL:PT1H
BEGIN:VTIMEZONE
TZID:America/Toronto
BEGIN:DAYLIGHT
TZOFFSETFROM:-0500
TZOFFSETTO:-0400
TZNAME:EDT
DTSTART:20250309T070000
END:DAYLIGHT
BEGIN:STANDARD
TZOFFSETFROM:-0400
TZOFFSETTO:-0500
TZNAME:EST
DTSTART:20251102T060000
END:STANDARD
BEGIN:DAYLIGHT
TZOFFSETFROM:-0500
TZOFFSETTO:-0400
TZNAME:EDT
DTSTART:20260308T070000
END:DAYLIGHT
BEGIN:STANDARD
TZOFFSETFROM:-0400
TZOFFSETTO:-0500
TZNAME:EST
DTSTART:20261101T060000
END:STANDARD
BEGIN:DAYLIGHT
TZOFFSETFROM:-0500
TZOFFSETTO:-0400
TZNAME:EDT
DTSTART:20270314T070000
END:DAYLIGHT
BEGIN:STANDARD
TZOFFSETFROM:-0400
TZOFFSETTO:-0500
TZNAME:EST
DTSTART:20271107T060000
END:STANDARD
END:VTIMEZONE
BEGIN:VEVENT
DTSTART;TZID=America/Toronto:20260114T114500
DTEND;TZID=America/Toronto:20260114T130000
DTSTAMP:20260421T013240
CREATED:20251224T124625Z
LAST-MODIFIED:20251224T125118Z
UID:10000429-1768391100-1768395600@nbotac.com
SUMMARY:Lunch & Learn: Workplace Mental Health
DESCRIPTION:Lunch & Learn: Workplace Mental HealthWednesday\, January 14 | 11:45 AM – 1:00 PMFalls Manor\, 7104 Lundy’s Lane\, Niagara Falls \nWorkplace mental health isn’t just an HR topic\, it’s a business issue. How people communicate\, handle stress\, and respond under pressure directly impacts productivity\, retention\, leadership\, and culture. \nJoin the Niagara Board of Trade & Commerce (NBOTAC) for a practical\, eye-opening Lunch & Learn with Julie Christiansen of Leverage U. \nJulie is an anger and communication expert\, author\, podcast host\, keynote speaker\, and executive coach. Her sessions are known for being honest\, relatable\, and immediately useful\, not theoretical or fluffy. \nWhat you’ll walk away with: \n\nA clearer understanding of how stress and unmanaged emotions show up at work\nPractical communication strategies leaders and teams can use right away\nInsight into reducing conflict before it escalates\nTools to support healthier\, more productive workplace conversations\n\nEvent Details \n\nBuy your own lunch\n$5 cash at the door (members) $8 for non-members\nBring a non-member guest and the fee is waived for both of you\n\nOpen to members and non-members. This is a great opportunity to invest an hour in yourself\, your team\, and your business while connecting with other professionals in the Niagara region. \n👉 Please RSVP using the form below. We look forward to seeing you there.
URL:https://nbotac.com/event/lunch-learn-workplace-mental-health/
LOCATION:The Falls Manor\, 7104 Lundy's Lane\, Niagara Falls\, Canada
ATTACH;FMTTYPE=image/png:https://nbotac.com/wp-content/uploads/2025/12/Lunch-and-Learn-Jan-14th-NBOTAC-1.png
END:VEVENT
BEGIN:VEVENT
DTSTART;TZID=America/Toronto:20260128T170000
DTEND;TZID=America/Toronto:20260128T190000
DTSTAMP:20260421T013240
CREATED:20251227T211111Z
LAST-MODIFIED:20251227T211111Z
UID:10000430-1769619600-1769626800@nbotac.com
SUMMARY:Business After 5: Cobblestone Gardens Retirement Residence
DESCRIPTION:Join us for our January Business After 5 at Cobblestone Gardens Retirement Residence\, located at 10 Ormond St. N.\, Thorold\, on Wednesday\, January 28th from 5:00 pm to 7:00 pm. \nThis relaxed after-hours gathering is all about casual networking\, new connections\, and meaningful conversations. Whether you are reconnecting with familiar faces or meeting fellow business owners for the first time\, this is a comfortable setting to build real relationships without the pressure of formal networking. \nWhile you’re there\, take time to learn more about Cobblestone Gardens\, where caring and friendly staff are dedicated to providing residents and their families with a high standard of care while creating lasting memories. Their commitment to personalized service and community is what truly sets them apart and makes Cobblestone Gardens shine with pride. \nCobblestone Gardens is committed to your lifestyle\, offering the peace and comfort of a seniors living community that feels like home\, supported by thoughtful services and a welcoming environment from the moment you walk through the doors. \nProudly serving Thorold\, Ontario\, this retirement residence reflects the spirit of a town known for its big heart. Many staff and residents call Thorold home\, adding to the warmth and sense of community that defines Cobblestone Gardens. \nBring your business cards\, your curiosity\, and your conversation skills. We look forward to seeing you there. \nPlease RSVP below: \n﻿﻿﻿
URL:https://nbotac.com/event/business-after-5-cobblestone-gardens-retirement-residence/
LOCATION:Cobblestone Gardens Retirement Residence\, 10 Ormond St. N.\,\, Thorold\, ON
CATEGORIES:Business After 5
ATTACH;FMTTYPE=image/jpeg:https://nbotac.com/wp-content/uploads/2025/12/January-2026-BA5.jpg
END:VEVENT
END:VCALENDAR