BEGIN:VCALENDAR
VERSION:2.0
PRODID:-//Niagara Board of Trade and Commerce - ECPv6.15.20//NONSGML v1.0//EN
CALSCALE:GREGORIAN
METHOD:PUBLISH
X-ORIGINAL-URL:https://nbotac.com
X-WR-CALDESC:Events for Niagara Board of Trade and Commerce
REFRESH-INTERVAL;VALUE=DURATION:PT1H
X-Robots-Tag:noindex
X-PUBLISHED-TTL:PT1H
BEGIN:VTIMEZONE
TZID:America/Toronto
BEGIN:DAYLIGHT
TZOFFSETFROM:-0500
TZOFFSETTO:-0400
TZNAME:EDT
DTSTART:20240310T070000
END:DAYLIGHT
BEGIN:STANDARD
TZOFFSETFROM:-0400
TZOFFSETTO:-0500
TZNAME:EST
DTSTART:20241103T060000
END:STANDARD
BEGIN:DAYLIGHT
TZOFFSETFROM:-0500
TZOFFSETTO:-0400
TZNAME:EDT
DTSTART:20250309T070000
END:DAYLIGHT
BEGIN:STANDARD
TZOFFSETFROM:-0400
TZOFFSETTO:-0500
TZNAME:EST
DTSTART:20251102T060000
END:STANDARD
BEGIN:DAYLIGHT
TZOFFSETFROM:-0500
TZOFFSETTO:-0400
TZNAME:EDT
DTSTART:20260308T070000
END:DAYLIGHT
BEGIN:STANDARD
TZOFFSETFROM:-0400
TZOFFSETTO:-0500
TZNAME:EST
DTSTART:20261101T060000
END:STANDARD
END:VTIMEZONE
BEGIN:VEVENT
DTSTART;TZID=America/Toronto:20251128T190000
DTEND;TZID=America/Toronto:20251128T220000
DTSTAMP:20260421T100824
CREATED:20251015T184753Z
LAST-MODIFIED:20251029T152756Z
UID:10000426-1764356400-1764367200@nbotac.com
SUMMARY:NBOTAC Christmas Party
DESCRIPTION:🎄 Join Us for the Holiday Party of the Year! 🎉 \nCalling all Niagara businesses:\nLooking for a fun\, easy way to celebrate and reward your team for its contributions to your success this year? Host your office Christmas party with us and join in the festivities! \nNBOTAC and Clients & Cocktails Networking are teaming up to bring you a festive End-of-Year Celebration you won’t want to miss! \n📅 Date: Friday\, November 28th\n🕖 Time: Doors open at 6:30 PM | Entertainment begins at 7:00 PM\n🎶 Entertainment: The Audio Saints (live band!)\n📍 Location: Beechwood Golf Course\n4680 Thorold Townline Rd\, Niagara Falls\, ON L2H 2Y6 \n🥂 Tickets: \n\nIndividual: $45\nTable of 8: $320\nTable of 10: $400 (Only 4 tables of 10 available!)\n\nEnjoy hors d’oeuvres at 7:30 PM\, munchies at your table\, and a night full of great music\, dancing\, and networking. \n🎁 Bring a door prize!\n❤️ Help us give back: We’ll be collecting non-perishable food items for local Niagara charities—because the need is great this season. \n  \n💡 Sponsorship opportunities available! \nBronze Sponsor $100 \nSilver Sponsor $250\nGold Sponsor $500\nPlatinum Sponsor $1000 \nAll sponsors will be added to the image above\, featured on the C&C & NBOTAC social media channels as well is in our respective newsletters\, logos displayed on the tables the night of the party. The Platinum Sponsor will be given 2 minutes to introduce their business to the guests… Contact debi@nbotac.com for more information. Email debi@nbotac.com for details. \n  \n🎟️ Buy your tickets online:\n\n\n\n\n\n\n\n\n\n\n\n\n\n\n$45 individual ticket \n\n\n\n\n\n\n\n\n\n\n\n\n\n\n\n\n\n\nTable of 8 $320 \n\n\n\n\n\n\n\n\n\n\n\n\n\n\n\n\n\n\nTable of 10 (only 4) \n\n\n\n\n\n\n\n\n\n\n\n 
URL:https://nbotac.com/event/nbotac-christmas-party/
LOCATION:Beechwood Golf & Country Club\, 4680 Thorold Town Line\, Niagara Falls\, Ontario\, L2H 0W2\, Canada
END:VEVENT
END:VCALENDAR