BEGIN:VCALENDAR
VERSION:2.0
PRODID:-//Niagara Board of Trade and Commerce - ECPv6.15.20//NONSGML v1.0//EN
CALSCALE:GREGORIAN
METHOD:PUBLISH
X-WR-CALNAME:Niagara Board of Trade and Commerce
X-ORIGINAL-URL:https://nbotac.com
X-WR-CALDESC:Events for Niagara Board of Trade and Commerce
REFRESH-INTERVAL;VALUE=DURATION:PT1H
X-Robots-Tag:noindex
X-PUBLISHED-TTL:PT1H
BEGIN:VTIMEZONE
TZID:America/Toronto
BEGIN:DAYLIGHT
TZOFFSETFROM:-0500
TZOFFSETTO:-0400
TZNAME:EDT
DTSTART:20240310T070000
END:DAYLIGHT
BEGIN:STANDARD
TZOFFSETFROM:-0400
TZOFFSETTO:-0500
TZNAME:EST
DTSTART:20241103T060000
END:STANDARD
BEGIN:DAYLIGHT
TZOFFSETFROM:-0500
TZOFFSETTO:-0400
TZNAME:EDT
DTSTART:20250309T070000
END:DAYLIGHT
BEGIN:STANDARD
TZOFFSETFROM:-0400
TZOFFSETTO:-0500
TZNAME:EST
DTSTART:20251102T060000
END:STANDARD
BEGIN:DAYLIGHT
TZOFFSETFROM:-0500
TZOFFSETTO:-0400
TZNAME:EDT
DTSTART:20260308T070000
END:DAYLIGHT
BEGIN:STANDARD
TZOFFSETFROM:-0400
TZOFFSETTO:-0500
TZNAME:EST
DTSTART:20261101T060000
END:STANDARD
END:VTIMEZONE
BEGIN:VEVENT
DTSTART;TZID=America/Toronto:20251210T120000
DTEND;TZID=America/Toronto:20251210T133000
DTSTAMP:20260421T100648
CREATED:20251201T140159Z
LAST-MODIFIED:20251203T022312Z
UID:10000427-1765368000-1765373400@nbotac.com
SUMMARY:Holiday Social & Networking
DESCRIPTION:🎄 Holiday Networking Social – December 10th at Noon! 🎄 \nReady for a little holiday cheer mixed with good conversation?Join us Wednesday\, December 10th at 12pm at Doc MacGilligan’s Restaurant & Pub for a relaxed networking social. \nNo speeches\, no agenda — just great people\, great chats\, and a chance to unwind before the year wraps up. Buy your own lunch and beverage\, settle in\, and enjoy meeting local business folks in a casual\, festive setting. \nRSVP \n✨ We’ll also have a great door prize!If you’d like to promote your business\, feel free to bring a door prize too — it’s a fun way to get your name in front of the group. \nEveryone’s welcome — members and non-members!Bring a colleague\, a friend\, or just yourself. \nLet’s raise a glass to connections\, community\, and a strong finish to 2025.See you there! 🍻✨ \n#NetworkingNiagara #HolidaySocial #NiagaraBusiness #ConnectAndCollaborate #SupportLocal #MeetNewPeople
URL:https://nbotac.com/event/holiday-social-networking-dec25/
LOCATION:Doc MacGilligan’s Restaurant & Pub\, 6400 Lundy's Lane\,\, Niagara Falls\, ON\, L2G 1T6\, Canada
ATTACH;FMTTYPE=image/jpeg:https://nbotac.com/wp-content/uploads/2025/12/Holiday-Lunch-Social-25-1.jpg
END:VEVENT
END:VCALENDAR