BEGIN:VCALENDAR
VERSION:2.0
PRODID:-//Niagara Board of Trade and Commerce - ECPv6.15.20//NONSGML v1.0//EN
CALSCALE:GREGORIAN
METHOD:PUBLISH
X-WR-CALNAME:Niagara Board of Trade and Commerce
X-ORIGINAL-URL:https://nbotac.com
X-WR-CALDESC:Events for Niagara Board of Trade and Commerce
REFRESH-INTERVAL;VALUE=DURATION:PT1H
X-Robots-Tag:noindex
X-PUBLISHED-TTL:PT1H
BEGIN:VTIMEZONE
TZID:America/Toronto
BEGIN:DAYLIGHT
TZOFFSETFROM:-0500
TZOFFSETTO:-0400
TZNAME:EDT
DTSTART:20230312T070000
END:DAYLIGHT
BEGIN:STANDARD
TZOFFSETFROM:-0400
TZOFFSETTO:-0500
TZNAME:EST
DTSTART:20231105T060000
END:STANDARD
BEGIN:DAYLIGHT
TZOFFSETFROM:-0500
TZOFFSETTO:-0400
TZNAME:EDT
DTSTART:20240310T070000
END:DAYLIGHT
BEGIN:STANDARD
TZOFFSETFROM:-0400
TZOFFSETTO:-0500
TZNAME:EST
DTSTART:20241103T060000
END:STANDARD
BEGIN:DAYLIGHT
TZOFFSETFROM:-0500
TZOFFSETTO:-0400
TZNAME:EDT
DTSTART:20250309T070000
END:DAYLIGHT
BEGIN:STANDARD
TZOFFSETFROM:-0400
TZOFFSETTO:-0500
TZNAME:EST
DTSTART:20251102T060000
END:STANDARD
BEGIN:DAYLIGHT
TZOFFSETFROM:-0500
TZOFFSETTO:-0400
TZNAME:EDT
DTSTART:20260308T070000
END:DAYLIGHT
BEGIN:STANDARD
TZOFFSETFROM:-0400
TZOFFSETTO:-0500
TZNAME:EST
DTSTART:20261101T060000
END:STANDARD
END:VTIMEZONE
BEGIN:VEVENT
DTSTART;TZID=America/Toronto:20250514T120000
DTEND;TZID=America/Toronto:20250514T130000
DTSTAMP:20260421T042545
CREATED:20250512T154219Z
LAST-MODIFIED:20250512T154219Z
UID:10000417-1747224000-1747227600@nbotac.com
SUMMARY:May  Lunch\, Learn & Networking hosted by Leadership Niagara!
DESCRIPTION:Join us for our May Lunch\, Learn & Networking hosted by\nLeadership Niagara!
URL:https://nbotac.com/event/may-lunch-learn-networking-hosted-by-leadership-niagara/
LOCATION:Club Belvedere\, 57 John St.\, Thorold\, Ontario\, L2V 5C8\, Canada
CATEGORIES:Lunch and Learn
END:VEVENT
BEGIN:VEVENT
DTSTART;TZID=America/Toronto:20250312T120000
DTEND;TZID=America/Toronto:20250312T133000
DTSTAMP:20260421T042545
CREATED:20250207T172944Z
LAST-MODIFIED:20250207T173124Z
UID:10000413-1741780800-1741786200@nbotac.com
SUMMARY:Special Event- March Lunch\, Learn & Networking with Vance Badawey
DESCRIPTION:Join us for our March Lunch\, Learn & Networking with Vance Badawey!\nDon’t miss this special event!  \nMember Rate\nNon Member Rate\n\nRSVP to info@nbotac.com
URL:https://nbotac.com/event/special-event-march-lunch-learn-networking-with-vance-badawey/
LOCATION:Club Belvedere\, 57 John St.\, Thorold\, Ontario\, L2V 5C8\, Canada
CATEGORIES:Lunch and Learn
END:VEVENT
BEGIN:VEVENT
DTSTART;TZID=America/Toronto:20250212T120000
DTEND;TZID=America/Toronto:20250212T133000
DTSTAMP:20260421T042545
CREATED:20250113T201252Z
LAST-MODIFIED:20250113T201252Z
UID:10000411-1739361600-1739367000@nbotac.com
SUMMARY:February Lunch\, Learn & Networking
DESCRIPTION:Join us for our February Lunch\, Learn & Networking hosted by Canadian Blood Services! \nRSVP to info@nbotac.com\n \nMember Rate: https://zohosecurepay.com/checkout/12wc3zl-29zfanppf60bvq/Lunch-Learn–Networking–Member-Rate  \nNon-Member Rates: https://zohosecurepay.com/checkout/63f2vld-ufzwpoqqwr893k/Lunch-Learn–Networking–Nonmember
URL:https://nbotac.com/event/february-lunch-learn-networking/
LOCATION:Club Belvedere\, 57 John St.\, Thorold\, Ontario\, L2V 5C8\, Canada
CATEGORIES:Lunch and Learn
END:VEVENT
BEGIN:VEVENT
DTSTART;TZID=America/Toronto:20250108T120000
DTEND;TZID=America/Toronto:20250108T133000
DTSTAMP:20260421T042545
CREATED:20241218T163027Z
LAST-MODIFIED:20241231T171516Z
UID:10000409-1736337600-1736343000@nbotac.com
SUMMARY:Lunch & Networking
DESCRIPTION:Topic: Tech-Enhanced Business Networking: Leveraging Connections\, Gaining Clients\nJoin NBOTAC Chair Mark Kawabe for a discussion of a dozen ways to leverage technology to enhance business networking effectiveness and efficiency. \nExpanding your business network is the key to new business opportunities and growth. Learn how to network better in 2025! \n“The richest people in the world look for and build networks. Everyone else looks for work.” – Robert Kiyosaki \nGet Your Ticket!
URL:https://nbotac.com/event/lunch-networking/
LOCATION:Club Belvedere\, 57 John St.\, Thorold\, Ontario\, L2V 5C8\, Canada
ATTACH;FMTTYPE=image/png:https://nbotac.com/wp-content/uploads/2024/12/lunchlearn-jan8th-mark-kawabe-networking.png
END:VEVENT
BEGIN:VEVENT
DTSTART;TZID=America/Toronto:20241113T080000
DTEND;TZID=America/Toronto:20241113T170000
DTSTAMP:20260421T042545
CREATED:20241025T162516Z
LAST-MODIFIED:20241025T162516Z
UID:10000405-1731484800-1731517200@nbotac.com
SUMMARY:November Lunch & Learn hosted by Langlois Safety
DESCRIPTION:Join us for our November Lunch & Learn hosted by Langlois Safety! \nPlease view below for more information and RSVP to info@nbotac.com\n \nThank you\, and have a great business day! \nNiagara Board of Trade & Commerce
URL:https://nbotac.com/event/november-lunch-learn-hosted-by-langlois-safety/
LOCATION:Club Belvedere\, 57 John St.\, Thorold\, Ontario\, L2V 5C8\, Canada
CATEGORIES:Lunch and Learn
END:VEVENT
BEGIN:VEVENT
DTSTART;TZID=America/Toronto:20240911T120000
DTEND;TZID=America/Toronto:20240911T133000
DTSTAMP:20260421T042545
CREATED:20240828T190532Z
LAST-MODIFIED:20240828T190532Z
UID:10000401-1726056000-1726061400@nbotac.com
SUMMARY:Join Us for September's Lunch & Learn!
DESCRIPTION:As September marks the return to business momentum\, we’re excited to invite you to our upcoming Lunch & Learn event on September 11th at Noon at the Club Belvedere\, located at 57 John St\, Thorold\, ON L2V 2S9.\n \nWe are pleased to welcome Debi Katsmar\, the owner of PRowl Communications\, as our guest speaker. With over 35 years of marketing experience and a proven track record of helping businesses thrive\, Debi will be presenting on “Unlocking Growth: Strategic Marketing Insights for Every Business.” \nIn this insightful session\, Debi will explore essential marketing strategies that can drive success across various industries\, including B2B\, retail\, service-based businesses\, agriculture\, and more. You’ll gain valuable knowledge on how to: \n•	Develop a strong online presence that resonates with your target audience\n•	Leverage CRM systems for efficient customer relationship management and sales growth\n•	Implement tailored marketing strategies that align with your specific business goals \nThis Lunch & Learn is the perfect opportunity to not only gather actionable insights but also to network with fellow business owners and professionals in our community. \nTickets are $25 at the door\, but you can ask Jeanette about how to save with NBOTAC’s monthly or annual Lunch & Learn payment plans. \nTo RSVP\, please contact Jeanette at info@nbotac.com or call her directly at 289-438-2546. \nDon’t miss this chance to refocus your business strategies and connect with local professionals. We look forward to seeing you there! \nThank you\, and have a great business day! \nNiagara Board of Trade & Commerce
URL:https://nbotac.com/event/join-us-for-septembers-lunch-learn/
LOCATION:Club Belvedere\, 57 John St.\, Thorold\, Ontario\, L2V 5C8\, Canada
END:VEVENT
END:VCALENDAR