BEGIN:VCALENDAR
VERSION:2.0
PRODID:-//Niagara Board of Trade and Commerce - ECPv6.15.20//NONSGML v1.0//EN
CALSCALE:GREGORIAN
METHOD:PUBLISH
X-WR-CALNAME:Niagara Board of Trade and Commerce
X-ORIGINAL-URL:https://nbotac.com
X-WR-CALDESC:Events for Niagara Board of Trade and Commerce
REFRESH-INTERVAL;VALUE=DURATION:PT1H
X-Robots-Tag:noindex
X-PUBLISHED-TTL:PT1H
BEGIN:VTIMEZONE
TZID:America/Toronto
BEGIN:DAYLIGHT
TZOFFSETFROM:-0500
TZOFFSETTO:-0400
TZNAME:EDT
DTSTART:20220313T070000
END:DAYLIGHT
BEGIN:STANDARD
TZOFFSETFROM:-0400
TZOFFSETTO:-0500
TZNAME:EST
DTSTART:20221106T060000
END:STANDARD
BEGIN:DAYLIGHT
TZOFFSETFROM:-0500
TZOFFSETTO:-0400
TZNAME:EDT
DTSTART:20230312T070000
END:DAYLIGHT
BEGIN:STANDARD
TZOFFSETFROM:-0400
TZOFFSETTO:-0500
TZNAME:EST
DTSTART:20231105T060000
END:STANDARD
BEGIN:DAYLIGHT
TZOFFSETFROM:-0500
TZOFFSETTO:-0400
TZNAME:EDT
DTSTART:20240310T070000
END:DAYLIGHT
BEGIN:STANDARD
TZOFFSETFROM:-0400
TZOFFSETTO:-0500
TZNAME:EST
DTSTART:20241103T060000
END:STANDARD
BEGIN:DAYLIGHT
TZOFFSETFROM:-0500
TZOFFSETTO:-0400
TZNAME:EDT
DTSTART:20250309T070000
END:DAYLIGHT
BEGIN:STANDARD
TZOFFSETFROM:-0400
TZOFFSETTO:-0500
TZNAME:EST
DTSTART:20251102T060000
END:STANDARD
END:VTIMEZONE
BEGIN:VEVENT
DTSTART;TZID=America/Toronto:20241206T190000
DTEND;TZID=America/Toronto:20241206T235900
DTSTAMP:20260421T140617
CREATED:20241030T170953Z
LAST-MODIFIED:20241030T173404Z
UID:10000406-1733511600-1733529540@nbotac.com
SUMMARY:Christmas Party!
DESCRIPTION:Niagara Board of Trade & Commerce is pleased to once again partner with Clients & Cocktails Networking to put on a fun and fantastic Christmas Party this year. \nThe event takes place December 6th starting at 7pm at Club Capri\, in Thorold. \nTickets $30/pp \nIncludes:  \n\nNibblies/hors d’oeuvres\nA free drink ticket\nLive Band: Rock of 80s \nPrizes and fun galore!If you would like to sponsor the event contact info@nbotac.com for details.\nGet your tickets early!\n\nGet your tickets today:
URL:https://nbotac.com/event/christmas-party/
LOCATION:Club Capri\, 36 Cleveland St.\, Thorold\, Ontario\, L2V 3K4\, Canada
ATTACH;FMTTYPE=image/png:https://nbotac.com/wp-content/uploads/2024/10/Christmas-Party-ticket.png
ORGANIZER;CN="Niagara Board of Trade & Commerce":MAILTO:info@nbotac.com
END:VEVENT
BEGIN:VEVENT
DTSTART;TZID=America/Toronto:20240410T120000
DTEND;TZID=America/Toronto:20240410T130000
DTSTAMP:20260421T140617
CREATED:20240322T191046Z
LAST-MODIFIED:20240322T191046Z
UID:10000303-1712750400-1712754000@nbotac.com
SUMMARY:
DESCRIPTION:Join us for our April Lunch & Learn hosted by Heather Swann of Plan(t) Wise Garden and Landscape! \nPlease view the below for more information and RSVP to info@nbotac.com
URL:https://nbotac.com/event/11807/
LOCATION:Club Capri\, 36 Cleveland St.\, Thorold\, Ontario\, L2V 3K4\, Canada
CATEGORIES:Lunch and Learn
END:VEVENT
BEGIN:VEVENT
DTSTART;TZID=America/Toronto:20240214T120000
DTEND;TZID=America/Toronto:20240214T130000
DTSTAMP:20260421T140617
CREATED:20240201T181343Z
LAST-MODIFIED:20240201T181343Z
UID:10000385-1707912000-1707915600@nbotac.com
SUMMARY:February Lunch & Learn!
DESCRIPTION:Join us for our February Lunch & Learn hosted by Essentials Cremation and Burial Services. \nPlease RSVP to info@nbotac.com\n \nThank you\, and have a great business day! \nNiagara Board of Trade & Commerce
URL:https://nbotac.com/event/february-lunch-learn-3/
LOCATION:Club Capri\, 36 Cleveland St.\, Thorold\, Ontario\, L2V 3K4\, Canada
CATEGORIES:Lunch and Learn
END:VEVENT
BEGIN:VEVENT
DTSTART;TZID=America/Toronto:20240110T120000
DTEND;TZID=America/Toronto:20240110T130000
DTSTAMP:20260421T140617
CREATED:20240101T171155Z
LAST-MODIFIED:20240101T171155Z
UID:10000383-1704888000-1704891600@nbotac.com
SUMMARY:January Lunch & Learn with Liberty Tax!
DESCRIPTION:Start the new year off right and join us for our January Lunch & Learn hosted by Liberty Tax Service! \nPlease read the below and RSVP to info@nbotac.com\n \nThank you\, and have a great business day! \nNiagara Board of Trade & Commerce
URL:https://nbotac.com/event/january-lunch-learn-with-liberty-tax/
LOCATION:Club Capri\, 36 Cleveland St.\, Thorold\, Ontario\, L2V 3K4\, Canada
CATEGORIES:Lunch and Learn
END:VEVENT
BEGIN:VEVENT
DTSTART;TZID=America/Toronto:20231124T190000
DTEND;TZID=America/Toronto:20231124T190000
DTSTAMP:20260421T140617
CREATED:20231020T160919Z
LAST-MODIFIED:20231020T161035Z
UID:10000381-1700852400-1700852400@nbotac.com
SUMMARY:Small Business Christmas Party
DESCRIPTION:This year we have joined with PRowl Communications as well as Networking Now for an even bigger Christmas party for your enjoyment. We’ve booked a hall\, hired a band and more!\n\nWe’re looking forward to this small business networking Christmas Party on November 24th at 7 pm\, taking place in central Niagara at Club Capri in Thorold.\nYour ticket includes:\nHors d’oeuvres\n1 free beverage\,\nMusic by Shin-diG\nDoor prizes\nFUN \nBusiness Members are encouraged to bring a door prize.\nWe are also collecting donations for local food banks – please bring a non-perishable food item.\nNovember 24\, 2023\n7pm\nClub Capri\n36 Cleveland St.\, Thorold\n$20/person \nTickets are available from PRowl Communications\, Niagara Board of Trade & Commerce and Networking Now Niagara members\, by sending an e-transfer to debi@prowlcommunications.com  \nYou can also choose to pay online here: https://www.prowlcommunications.com/…/cc-christmas.. \nThank you\, and have a great business day! \nNiagara Board of Trade & Commerce
URL:https://nbotac.com/event/small-business-christmas-party/
LOCATION:Club Capri\, 36 Cleveland St.\, Thorold\, Ontario\, L2V 3K4\, Canada
END:VEVENT
BEGIN:VEVENT
DTSTART;TZID=America/Toronto:20231108T120000
DTEND;TZID=America/Toronto:20231108T133000
DTSTAMP:20260421T140617
CREATED:20231023T181403Z
LAST-MODIFIED:20231023T181403Z
UID:10000382-1699444800-1699450200@nbotac.com
SUMMARY:November Lunch & Learn with Hamilton-Oshawa Port Authority (HOPA).
DESCRIPTION:Join us for our November Lunch & Learn with guest speaker Jeremy Dunn of Hamilton-Oshawa Port Authority (HOPA). \nPlease RSVP to info@nbotac.com\n  \nThank you\, and have a great business day! \nNiagara Board of Trade & Commerce
URL:https://nbotac.com/event/november-lunch-learn-with-hamilton-oshawa-port-authority-hopa/
LOCATION:Club Capri\, 36 Cleveland St.\, Thorold\, Ontario\, L2V 3K4\, Canada
END:VEVENT
BEGIN:VEVENT
DTSTART;TZID=America/Toronto:20231018T173000
DTEND;TZID=America/Toronto:20231018T190000
DTSTAMP:20260421T140617
CREATED:20231005T181136Z
LAST-MODIFIED:20231005T181136Z
UID:10000380-1697650200-1697655600@nbotac.com
SUMMARY:2023 NBOTAC Annual General Meeting
DESCRIPTION:I hope this message finds you well.\n \nThe 2023 Annual General Meeting of the Niagara Board of Trade & Commerce (NBOTAC) will be held on Wednesday\, October 18th\, 2023 at Club Capri: 36 Cleveland Street\, Thorold. \nThe AGM is open to all members in good standing of the NBOTAC. We look forward to catching you up on the past year’s work done by the NBOTAC and discussing our future goals. \nHors d’oeuvres will be provided as well as an open bar. \n5:30pm: Registration & Networking.\n6-7pm: AGM Presentations\, Elections of New Board Members\, Q & A. \nPlease R.S.V.P. to info@nbotac.com or by phone at 289-438-2546. \nI look forward to seeing you at our Annual General Meeting! If you have any questions\, please contact me directly at 289-241-3080. \nBest Regards\,\nMark Kawabe\, NBOTAC Chair
URL:https://nbotac.com/event/2023-nbotac-annual-general-meeting/
LOCATION:Club Capri\, 36 Cleveland St.\, Thorold\, Ontario\, L2V 3K4\, Canada
END:VEVENT
BEGIN:VEVENT
DTSTART;TZID=America/Toronto:20231011T120000
DTEND;TZID=America/Toronto:20231011T130000
DTSTAMP:20260421T140617
CREATED:20230918T164905Z
LAST-MODIFIED:20230918T164905Z
UID:10000378-1697025600-1697029200@nbotac.com
SUMMARY:October Lunch & Learn with Infinite Business Solutions!
DESCRIPTION:Please view the below invite to our NBOTAC October Lunch & Learn.\nRSVP to info@nbotac.com
URL:https://nbotac.com/event/october-lunch-learn-with-infinite-business-solutions/
LOCATION:Club Capri\, 36 Cleveland St.\, Thorold\, Ontario\, L2V 3K4\, Canada
CATEGORIES:Lunch and Learn
END:VEVENT
BEGIN:VEVENT
DTSTART;TZID=America/Toronto:20230510T120000
DTEND;TZID=America/Toronto:20230510T130000
DTSTAMP:20260421T140617
CREATED:20230426T162823Z
LAST-MODIFIED:20230426T162823Z
UID:10000371-1683720000-1683723600@nbotac.com
SUMMARY:Join us- May Lunch & Learn!
DESCRIPTION:Join us for our May Lunch & Learn with Guest Speaker Debi Katsmar of PRowl Communications!  \nPlease view the below invitation for more information and RSVP to info@nbotac.com\n  \nThank you\, and have a great business day! \nNiagara Board of Trade & Commerce
URL:https://nbotac.com/event/join-us-may-lunch-learn/
LOCATION:Club Capri\, 36 Cleveland St.\, Thorold\, Ontario\, L2V 3K4\, Canada
CATEGORIES:Lunch and Learn
END:VEVENT
BEGIN:VEVENT
DTSTART;TZID=America/Toronto:20230413T120000
DTEND;TZID=America/Toronto:20230413T133000
DTSTAMP:20260421T140617
CREATED:20230329T190352Z
LAST-MODIFIED:20230329T190510Z
UID:10000367-1681387200-1681392600@nbotac.com
SUMMARY:April Lunch and Learn with Vance Badawey\, MP!
DESCRIPTION:Members join us for our April Lunch and Learn with guest speaker Vance Badawey\, MP! \nPlease RSVP to info@nbotac.com
URL:https://nbotac.com/event/april-lunch-and-learn-with-vance-badawey-mp/
LOCATION:Club Capri\, 36 Cleveland St.\, Thorold\, Ontario\, L2V 3K4\, Canada
CATEGORIES:Lunch and Learn
ORGANIZER;CN="Niagara Board of Trade & Commerce":MAILTO:info@nbotac.com
END:VEVENT
END:VCALENDAR