BEGIN:VCALENDAR
VERSION:2.0
PRODID:-//Niagara Board of Trade and Commerce - ECPv6.15.20//NONSGML v1.0//EN
CALSCALE:GREGORIAN
METHOD:PUBLISH
X-ORIGINAL-URL:https://nbotac.com
X-WR-CALDESC:Events for Niagara Board of Trade and Commerce
REFRESH-INTERVAL;VALUE=DURATION:PT1H
X-Robots-Tag:noindex
X-PUBLISHED-TTL:PT1H
BEGIN:VTIMEZONE
TZID:America/Toronto
BEGIN:DAYLIGHT
TZOFFSETFROM:-0500
TZOFFSETTO:-0400
TZNAME:EDT
DTSTART:20230312T070000
END:DAYLIGHT
BEGIN:STANDARD
TZOFFSETFROM:-0400
TZOFFSETTO:-0500
TZNAME:EST
DTSTART:20231105T060000
END:STANDARD
BEGIN:DAYLIGHT
TZOFFSETFROM:-0500
TZOFFSETTO:-0400
TZNAME:EDT
DTSTART:20240310T070000
END:DAYLIGHT
BEGIN:STANDARD
TZOFFSETFROM:-0400
TZOFFSETTO:-0500
TZNAME:EST
DTSTART:20241103T060000
END:STANDARD
BEGIN:DAYLIGHT
TZOFFSETFROM:-0500
TZOFFSETTO:-0400
TZNAME:EDT
DTSTART:20250309T070000
END:DAYLIGHT
BEGIN:STANDARD
TZOFFSETFROM:-0400
TZOFFSETTO:-0500
TZNAME:EST
DTSTART:20251102T060000
END:STANDARD
END:VTIMEZONE
BEGIN:VEVENT
DTSTART;TZID=America/Toronto:20240724T170000
DTEND;TZID=America/Toronto:20240724T190000
DTSTAMP:20260425T074213
CREATED:20240710T173435Z
LAST-MODIFIED:20240710T173435Z
UID:10000398-1721840400-1721847600@nbotac.com
SUMMARY:Join us for our July BA5 hosted by Plan(t) Wise Garden & Landscape Design!
DESCRIPTION:Join us for our July BA5 hosted by Plan(t) Wise Garden & Landscape Design! \nPlease RSVP to info@nbotac.com\n \nThank you\, and have a great business day! \nNiagara Board of Trade & Commerce
URL:https://nbotac.com/event/join-us-for-our-july-ba5-hosted-by-plant-wise-garden-landscape-design/
LOCATION:Plan(t) Wise Garden & Landscape Design\, 103 Adelaide St\, Port Colborne\, ON\, L3K 2W4
CATEGORIES:Business After 5
END:VEVENT
END:VCALENDAR