BEGIN:VCALENDAR
VERSION:2.0
PRODID:-//Niagara Board of Trade and Commerce - ECPv6.15.20//NONSGML v1.0//EN
CALSCALE:GREGORIAN
METHOD:PUBLISH
X-ORIGINAL-URL:https://nbotac.com
X-WR-CALDESC:Events for Niagara Board of Trade and Commerce
REFRESH-INTERVAL;VALUE=DURATION:PT1H
X-Robots-Tag:noindex
X-PUBLISHED-TTL:PT1H
BEGIN:VTIMEZONE
TZID:America/Toronto
BEGIN:DAYLIGHT
TZOFFSETFROM:-0500
TZOFFSETTO:-0400
TZNAME:EDT
DTSTART:20220313T070000
END:DAYLIGHT
BEGIN:STANDARD
TZOFFSETFROM:-0400
TZOFFSETTO:-0500
TZNAME:EST
DTSTART:20221106T060000
END:STANDARD
BEGIN:DAYLIGHT
TZOFFSETFROM:-0500
TZOFFSETTO:-0400
TZNAME:EDT
DTSTART:20230312T070000
END:DAYLIGHT
BEGIN:STANDARD
TZOFFSETFROM:-0400
TZOFFSETTO:-0500
TZNAME:EST
DTSTART:20231105T060000
END:STANDARD
BEGIN:DAYLIGHT
TZOFFSETFROM:-0500
TZOFFSETTO:-0400
TZNAME:EDT
DTSTART:20240310T070000
END:DAYLIGHT
BEGIN:STANDARD
TZOFFSETFROM:-0400
TZOFFSETTO:-0500
TZNAME:EST
DTSTART:20241103T060000
END:STANDARD
BEGIN:DAYLIGHT
TZOFFSETFROM:-0500
TZOFFSETTO:-0400
TZNAME:EDT
DTSTART:20250309T070000
END:DAYLIGHT
BEGIN:STANDARD
TZOFFSETFROM:-0400
TZOFFSETTO:-0500
TZNAME:EST
DTSTART:20251102T060000
END:STANDARD
BEGIN:DAYLIGHT
TZOFFSETFROM:-0500
TZOFFSETTO:-0400
TZNAME:EDT
DTSTART:20260308T070000
END:DAYLIGHT
BEGIN:STANDARD
TZOFFSETFROM:-0400
TZOFFSETTO:-0500
TZNAME:EST
DTSTART:20261101T060000
END:STANDARD
BEGIN:DAYLIGHT
TZOFFSETFROM:-0500
TZOFFSETTO:-0400
TZNAME:EDT
DTSTART:20270314T070000
END:DAYLIGHT
BEGIN:STANDARD
TZOFFSETFROM:-0400
TZOFFSETTO:-0500
TZNAME:EST
DTSTART:20271107T060000
END:STANDARD
END:VTIMEZONE
BEGIN:VEVENT
DTSTART;TZID=America/Toronto:20260325T170000
DTEND;TZID=America/Toronto:20260325T190000
DTSTAMP:20260421T025546
CREATED:20260310T120645Z
LAST-MODIFIED:20260317T105038Z
UID:10000435-1774458000-1774465200@nbotac.com
SUMMARY:Business After 5 - Cornhole Fun
DESCRIPTION:After a long day of work\, sometimes the best networking happens when there’s a little fun involved. \nJoin us for our March Business After 5 – Cornhole Social hosted at Regency Athletic Resort in Niagara Falls. This month we’re adding a bit of friendly competition to the mix while you connect with fellow local business professionals. \n📍 Regency Athletic Resort8068 Mountain Rd.\, Niagara Falls🗓 Wednesday\, March 25🕔 5:00 PM – 7:00 PM \nBring your colleagues\, meet new connections\, and enjoy a relaxed evening of networking and cornhole. Whether you’re competitive or just there for the laughs\, it’s a great way to build relationships in the Niagara business community. \nAnd no need to worry about the weather — the patio courts are covered\, heated\, and insulated\, so you’ll stay warm even if March decides to remind us it’s still winter. \nThe restaurant will be open for food and drinks\, so you can grab a bite while you mingle and play. \n✔️ Free to attend✔️ Guests welcome✔️ Door prizes appreciated \nCome out\, have some fun\, and make a few new connections. \n👉 Please RSVP to let us know you’re coming. \n﻿
URL:https://nbotac.com/event/cornhole-2026/
LOCATION:Regency Athletic Resort\, 8068 Mountain Rd\, Niagara Falls\, ON\, L2E 6S4
CATEGORIES:Business After 5
ATTACH;FMTTYPE=image/jpeg:https://nbotac.com/wp-content/uploads/2026/03/March-BA5-1.jpg
END:VEVENT
BEGIN:VEVENT
DTSTART;VALUE=DATE:20250723
DTEND;VALUE=DATE:20250724
DTSTAMP:20260421T025546
CREATED:20250612T175132Z
LAST-MODIFIED:20250612T175326Z
UID:10000418-1753228800-1753315199@nbotac.com
SUMMARY:NBOTAC Annual Cornhole Social!
DESCRIPTION:Join us at our Annual Cornhole Social! Enjoy a game of cornhole\, food and networking! \nPlease RSVP to info@nbotac.com
URL:https://nbotac.com/event/nbotac-annual-cornhole-social-2/
LOCATION:Regency Athletic Resort\, 8068 Mountain Rd\, Niagara Falls\, ON\, L2E 6S4
END:VEVENT
BEGIN:VEVENT
DTSTART;TZID=America/Toronto:20240814T153000
DTEND;TZID=America/Toronto:20240814T180000
DTSTAMP:20260421T025546
CREATED:20240724T184222Z
LAST-MODIFIED:20240724T184222Z
UID:10000399-1723649400-1723658400@nbotac.com
SUMMARY:Cornhole Social
DESCRIPTION:We’re switching things up a little this month! \nJoin us for our Annual Cornhole Match at the Regency. \nMembers had a ton of fun last year! We hope you can join us. \nRSVP to jeanette@nbotac.com
URL:https://nbotac.com/event/cornhole-social/
LOCATION:Regency Athletic Resort\, 8068 Mountain Rd\, Niagara Falls\, ON\, L2E 6S4
ATTACH;FMTTYPE=image/jpeg:https://nbotac.com/wp-content/uploads/2024/07/CORN-HOLE-SOCIAL-002-scaled.jpg
END:VEVENT
BEGIN:VEVENT
DTSTART;TZID=America/Toronto:20230726T160000
DTEND;TZID=America/Toronto:20230726T180000
DTSTAMP:20260421T025546
CREATED:20230703T160055Z
LAST-MODIFIED:20230703T160055Z
UID:10000376-1690387200-1690394400@nbotac.com
SUMMARY:NBOTAC Cornhole Social!
DESCRIPTION:Join us for a fun night out! Please view the below for the NBOTAC Cornhole Social!\n \nRSVP to info@nbotac.com  \nThank you\, and have a great business day! \nNiagara Board of Trade & Commerce
URL:https://nbotac.com/event/nbotac-cornhole-social/
LOCATION:Regency Athletic Resort\, 8068 Mountain Rd\, Niagara Falls\, ON\, L2E 6S4
ORGANIZER;CN="Niagara Board of Trade & Commerce":MAILTO:info@nbotac.com
END:VEVENT
END:VCALENDAR